BEGIN:VCALENDAR
VERSION:2.0
PRODID:-//Association La Bourguette-autisme - ECPv5.9.1//NONSGML v1.0//EN
CALSCALE:GREGORIAN
METHOD:PUBLISH
X-WR-CALNAME:Association La Bourguette-autisme
X-ORIGINAL-URL:https://www.bourguette-autisme.org
X-WR-CALDESC:évènements pour Association La Bourguette-autisme
BEGIN:VTIMEZONE
TZID:Europe/Paris
BEGIN:DAYLIGHT
TZOFFSETFROM:+0100
TZOFFSETTO:+0200
TZNAME:CEST
DTSTART:20240331T010000
END:DAYLIGHT
BEGIN:STANDARD
TZOFFSETFROM:+0200
TZOFFSETTO:+0100
TZNAME:CET
DTSTART:20241027T010000
END:STANDARD
END:VTIMEZONE
BEGIN:VEVENT
DTSTART;VALUE=DATE:20240404
DTEND;VALUE=DATE:20240901
DTSTAMP:20260422T035356
CREATED:20240304T142921Z
LAST-MODIFIED:20240419T155221Z
UID:18661-1712188800-1725148799@www.bourguette-autisme.org
SUMMARY:"ÉCORCES"- exposition des créations de Benoît SCHMITT
DESCRIPTION:Benoît SCHMITT du FAM Les Capelières (Saint-Estève-Janson – 13) expose ses créations à la Galerie Remy’s Galerie & ses amis à Eygalières du 4 avril au 31 août 2024. \nInauguration le 4 avril 2024 à partir de 18h. \n———————————- \nExposition « ÉCORCES » – Benoît SCHMITT\n\nC’est une histoire de paroles\, absentes ou présentes\, une histoire de corps\, de cœurs et d’esprits. \nC’est une histoire de gens qui travaillent ensemble pour accompagner d’autres gens. \nC’est un voyage\, avec des territoires inconnus\, où nous devons nous orienter entre mesures et démesures. \nIci on vit au milieu de l’incohérence\, au pays des bribes. \nTout est éparpillé\, disloqué\, tout est n’importe où\, n’importe comment\, n’importe quand. \nMais rien n’est n’importe quoi. \nQuand le FAM des Capelières à ouvert\, il y a dix ans\, la première chose que nous avons entrepris\, avec les moniteurs d’ateliers\, ce fut de créer de nouveaux chemins sur cet immense terrain. \nDes chemins de traverses\, tracés par les déplacements des résidents eux mêmes\, que nous avons suivis\, car il existait déjà des allées bien construites et fonctionnelles. \nSuivant leurs traces\, nous avons ainsi tramé le terrain sur lequel nous allions vivre ensemble. \nEt c’est là que nous sommes\, travaillant dans les allées fonctionnelles et les chemins de traverse\, construisant un quotidien bâti à la fois par la commande sociale et le terrain des variantes infinies et complexes des personnes qui nous sont confiées. \n\n\n  \n\n\n\n\n\n\n\n\n\n\n\n\n\n\nLire la suite
URL:https://www.bourguette-autisme.org/evenement/ecorces-exposition-des-creations-de-benoit-schmitt/
LOCATION:Remy’s Galerie & ses amis\, 29 rue du Portail de Laure\, EYGALIERES\, 13810
CATEGORIES:FAM les Capelières
ATTACH;FMTTYPE=image/jpeg:https://www.bourguette-autisme.org/wp-content/uploads/2024/03/AFFICHE-EXPO-REMYSGALERIE.jpg
ORGANIZER;CN="Remy%27s%20Galerie%20%26%20ses%20amis":MAILTO:remysgalerieetsesamis@gmail.com
END:VEVENT
END:VCALENDAR