BEGIN:VCALENDAR
VERSION:2.0
PRODID:-//Association La Bourguette-autisme - ECPv5.9.1//NONSGML v1.0//EN
CALSCALE:GREGORIAN
METHOD:PUBLISH
X-WR-CALNAME:Association La Bourguette-autisme
X-ORIGINAL-URL:https://www.bourguette-autisme.org
X-WR-CALDESC:évènements pour Association La Bourguette-autisme
BEGIN:VTIMEZONE
TZID:Europe/Paris
BEGIN:DAYLIGHT
TZOFFSETFROM:+0100
TZOFFSETTO:+0200
TZNAME:CEST
DTSTART:20240331T010000
END:DAYLIGHT
BEGIN:STANDARD
TZOFFSETFROM:+0200
TZOFFSETTO:+0100
TZNAME:CET
DTSTART:20241027T010000
END:STANDARD
END:VTIMEZONE
BEGIN:VEVENT
DTSTART;TZID=Europe/Paris:20241213T163000
DTEND;TZID=Europe/Paris:20241213T190000
DTSTAMP:20260420T151207
CREATED:20241210T074428Z
LAST-MODIFIED:20241210T075757Z
UID:20698-1734107400-1734116400@www.bourguette-autisme.org
SUMMARY:Fête Magique au Petit Jardin
DESCRIPTION:Le Pôle Ressource Petite Enfance « Le Petit Jardin » vous attend samedi 13 décembre à partir de 16h pour leur Fête de Noël Magique. \nAu Programme : \n\nDanse\nContes et comptines en LSF\nPhotographe avec décors de Noël\nAtelier créatif : boules\, bougeoirs de Noël\nSalle de repli à disposition si besoin\nTombola : 2€ le ticket (de nombreux lots à gagner)\nSpectacle avec 2 représentations : 16h15 et 17h15\n\nMerci d’informer de votre présence. \nContact : \nPôle Ressource Petite Enfance « Le Petit Jardin » – 680 chemin de la Forêt – 84140 Montfavet \n04 90 27 06 86 – accueil.petitjardin@labourguette.org
URL:https://www.bourguette-autisme.org/evenement/fete-magique-au-petit-jardin/
LOCATION:Pôle Ressource Petite Enfance « Le Petit Jardin »\, Agroparc - 680 chemin de la Forêt\, MONTFAVET\, 84140
CATEGORIES:Pôle Ressource Petite Enfance
ATTACH;FMTTYPE=image/jpeg:https://www.bourguette-autisme.org/wp-content/uploads/2024/12/Have-a-magical-Christmas-final-e1733816614730.jpg
END:VEVENT
END:VCALENDAR