BEGIN:VCALENDAR
VERSION:2.0
PRODID:-//Association La Bourguette-autisme - ECPv5.9.1//NONSGML v1.0//EN
CALSCALE:GREGORIAN
METHOD:PUBLISH
X-WR-CALNAME:Association La Bourguette-autisme
X-ORIGINAL-URL:https://www.bourguette-autisme.org
X-WR-CALDESC:évènements pour Association La Bourguette-autisme
BEGIN:VTIMEZONE
TZID:Europe/Paris
BEGIN:DAYLIGHT
TZOFFSETFROM:+0100
TZOFFSETTO:+0200
TZNAME:CEST
DTSTART:20240331T010000
END:DAYLIGHT
BEGIN:STANDARD
TZOFFSETFROM:+0200
TZOFFSETTO:+0100
TZNAME:CET
DTSTART:20241027T010000
END:STANDARD
END:VTIMEZONE
BEGIN:VEVENT
DTSTART;TZID=Europe/Paris:20241220T120000
DTEND;TZID=Europe/Paris:20241220T143000
DTSTAMP:20260421T033545
CREATED:20241210T083048Z
LAST-MODIFIED:20241210T083048Z
UID:20703-1734696000-1734705000@www.bourguette-autisme.org
SUMMARY:Repas de Noël du FAM Capelières
DESCRIPTION:Le FAM Capelières organise son repas de Noël pour les résidents et leurs familles (uniquement) le samedi 20 décembre 2024 à 12h à Notre Dame
URL:https://www.bourguette-autisme.org/evenement/repas-de-noel-du-fam-capelieres/
LOCATION:Notre Dame\, 185 bd de la Libération\, La Tour d'Aigues\, 84240\, France
CATEGORIES:FAM les Capelières
ATTACH;FMTTYPE=image/jpeg:https://www.bourguette-autisme.org/wp-content/uploads/2024/12/Invitation.jpg
END:VEVENT
END:VCALENDAR