BEGIN:VCALENDAR
VERSION:2.0
PRODID:-//Association La Bourguette-autisme - ECPv5.9.1//NONSGML v1.0//EN
CALSCALE:GREGORIAN
METHOD:PUBLISH
X-WR-CALNAME:Association La Bourguette-autisme
X-ORIGINAL-URL:https://www.bourguette-autisme.org
X-WR-CALDESC:évènements pour Association La Bourguette-autisme
BEGIN:VTIMEZONE
TZID:Europe/Paris
BEGIN:DAYLIGHT
TZOFFSETFROM:+0100
TZOFFSETTO:+0200
TZNAME:CEST
DTSTART:20250330T010000
END:DAYLIGHT
BEGIN:STANDARD
TZOFFSETFROM:+0200
TZOFFSETTO:+0100
TZNAME:CET
DTSTART:20251026T010000
END:STANDARD
END:VTIMEZONE
BEGIN:VEVENT
DTSTART;TZID=Europe/Paris:20250111T093000
DTEND;TZID=Europe/Paris:20250111T120000
DTSTAMP:20260422T175808
CREATED:20241015T090654Z
LAST-MODIFIED:20241015T102648Z
UID:20446-1736587800-1736596800@www.bourguette-autisme.org
SUMMARY:Café Famille
DESCRIPTION:Votre prochain rendez-vous Café Famille a lieu le samedi 11 janvier 2025 de 9h30 à 12h à Notre Dame – 177 Bd de La Libération – 84240 La Tour d’Aigues. \nCe temps convivial et chaleureux autour d’un café et de viennoiseries s’adresse à toutes les familles et tous les membres touchés par l’accueil singulier et la vie auprès d’un jeune enfant\, d’un jeune adolescent\,d’un  jeune adulte\, d’un adulte\, d’un adulte retraité et d’un adulte vieillissant. \nCette rencontre est organisée et co-animée par Sylvie Cardonnel\, parent et Nathalie Héritier\, psychologue. \nContact – Information – Réservation : Sylvie Cardonnel – 06 81 47 49 50 – sylvie.cardonnel@orange.fr \nLes thèmes abordés : \n\nL’annonce du handicap\,\nParcours de vie des mères\, des pères\, de la fratrie\, des grands parents…\,\nLes belles rencontres humaines dans ces parcours\,\nLe regard des autres (famille\, proches\, inconnus)\,\nImpact sur les différentes sphères de vie : familiale\, le couple\, vie sociale \,travail \, cercle d’amis\,\nCocktail d’émotions : les moments d’espoirs\, de déception\, de désillusions…\nLes doutes\, les errements\, les renoncements\, les différentes formes d’acceptations\, les joies simples discrètes et pourtant profondes\nLa fatigue\, le stress\, l’épuisement\, le besoin de répit\,\nImpact des nuits sans sommeil\, et autres répercussions sur la santé\,\nLe vieillissement de nos enfants\,\nLa disparition d’un parent\, d’un proche\,\nLe parcours du combattant\, le manque de places\, le désarroi\,\nLes relations avec les administrations\,\nSans avenir\, sans perspectives\, sans projets sur le qui-vive permanent comment vivre… l’équilibre dans le déséquilibre ?\,\nEt après nous parents qui saura être suffisamment vigilant et suffisamment aimant pour protéger notre enfant\, le comprendre… ?\,\nTrouver des solutions\, la force de proposition\, de créativité d’engagement\,\nLe poids des associations de parents Échanges sur ce que certains parents ont mis en place\,\nDans le futur\, pourrons-nous compter sur une société humaine qui accueillera et acceptera mieux nos enfants ?\,\nAnecdotes touchantes et cocasses\,\nPartage d’adresses de références trucs\, astuces.\n…..
URL:https://www.bourguette-autisme.org/evenement/cafe-famille-4/
LOCATION:Notre Dame\, 185 bd de la Libération\, La Tour d'Aigues\, 84240\, France
CATEGORIES:Association La Bourguette
ATTACH;FMTTYPE=image/jpeg:https://www.bourguette-autisme.org/wp-content/uploads/2024/10/affiche-evenement2-w.jpg
ORGANIZER;CN="Association%20La%20Bourguette":MAILTO:evenement@labourguette.org
END:VEVENT
END:VCALENDAR