BEGIN:VCALENDAR
VERSION:2.0
PRODID:-//Association La Bourguette-autisme - ECPv5.9.1//NONSGML v1.0//EN
CALSCALE:GREGORIAN
METHOD:PUBLISH
X-WR-CALNAME:Association La Bourguette-autisme
X-ORIGINAL-URL:https://www.bourguette-autisme.org
X-WR-CALDESC:évènements pour Association La Bourguette-autisme
BEGIN:VTIMEZONE
TZID:Europe/Paris
BEGIN:DAYLIGHT
TZOFFSETFROM:+0100
TZOFFSETTO:+0200
TZNAME:CEST
DTSTART:20250330T010000
END:DAYLIGHT
BEGIN:STANDARD
TZOFFSETFROM:+0200
TZOFFSETTO:+0100
TZNAME:CET
DTSTART:20251026T010000
END:STANDARD
END:VTIMEZONE
BEGIN:VEVENT
DTSTART;TZID=Europe/Paris:20250124T090000
DTEND;TZID=Europe/Paris:20250124T110000
DTSTAMP:20260422T175817
CREATED:20250109T074355Z
LAST-MODIFIED:20250109T074355Z
UID:20800-1737709200-1737716400@www.bourguette-autisme.org
SUMMARY:RÉSEAU TSA - RÉUNION PLÉNIÈRE
DESCRIPTION:Les actions du dispositif mis en place par les acteurs du réseau TSA Sud Luberon\, ont pris fin le 31 décembre 2024\, marquant ainsi la fin du financement du projet expérimental. \nC’est avec un profond regret que nous voyons cette aventure se terminer\, d’autant plus que les besoins des jeunes enfants et de leurs familles demeurent toujours aussi présents. \nNous vous invitons à participer à une réunion plénière pour réfléchir ensemble à la manière de poursuivre ces actions malgré l’arrêt du financement et identifier des solutions pour continuer à répondre aux besoins toujours pressants sur le territoire. \nAgissons ensemble pour trouver des solutions créatives!  \n📅 Vendredi 24 janvier 2025\n⏰ 9h – 11h\n📍 Salle Carignan\, avenue de Verdun\, Pertuis \n🎯 Votre présence et vos idées sont essentielles pour imaginer la suite ! On compte sur vous ! \n📩 Pour confirmer votre présence\, écrivez-nous à : cgentilhomme.tsasudluberon@gmail.com\n👉 Nous avons hâte de vous compter parmi nous !
URL:https://www.bourguette-autisme.org/evenement/reseau-tsa-reunion-pleniere/
LOCATION:salle CArignan\, avenue de Verdun\, Pertuis\, 84120
CATEGORIES:Association La Bourguette
ATTACH;FMTTYPE=image/jpeg:https://www.bourguette-autisme.org/wp-content/uploads/2025/01/reseau-TSA.jpg
END:VEVENT
END:VCALENDAR