BEGIN:VCALENDAR
VERSION:2.0
PRODID:-//Association La Bourguette-autisme - ECPv5.9.1//NONSGML v1.0//EN
CALSCALE:GREGORIAN
METHOD:PUBLISH
X-WR-CALNAME:Association La Bourguette-autisme
X-ORIGINAL-URL:https://www.bourguette-autisme.org
X-WR-CALDESC:évènements pour Association La Bourguette-autisme
BEGIN:VTIMEZONE
TZID:Europe/Paris
BEGIN:DAYLIGHT
TZOFFSETFROM:+0100
TZOFFSETTO:+0200
TZNAME:CEST
DTSTART:20250330T010000
END:DAYLIGHT
BEGIN:STANDARD
TZOFFSETFROM:+0200
TZOFFSETTO:+0100
TZNAME:CET
DTSTART:20251026T010000
END:STANDARD
END:VTIMEZONE
BEGIN:VEVENT
DTSTART;TZID=Europe/Paris:20250201T160000
DTEND;TZID=Europe/Paris:20250201T190000
DTSTAMP:20260422T041411
CREATED:20250120T090743Z
LAST-MODIFIED:20250120T100716Z
UID:20859-1738425600-1738436400@www.bourguette-autisme.org
SUMMARY:DÉTOURS DE CIRQUE #3
DESCRIPTION:✘ DÉTOURS DE CIRQUE #3\n\n\n\n\n\n\n📅01 février à 16h au Chapiteau de la Bourguette 🎪\n\n\n\nDans le cadre de la BIAC 2025\, et en partenariat avec l’Association La Bourguette\, ZimZam accueille le collectif international Ino Kollektiv pour sa dernière création de portés acrobatiques: « Situ »🤹‍♀️\n\n\n\n⏰Ouverture des portes à 15h15.\n\n\n🍭Crêpes et buvette sur place.\n\n\n\nA partir de 6 ans.\n\n\nChapiteau chauffé.\n\n\n\n👉Plus d’infos et billetterie: https://biennale-cirque.com/evenement/situ/\n\n 
URL:https://www.bourguette-autisme.org/evenement/detours-de-cirque-3/
LOCATION:Chapiteau Bourguette\, 998 chemin de La Bourguette\, La Tour d'Aigues\, 84240
CATEGORIES:Association La Bourguette,Châpiteau
ATTACH;FMTTYPE=image/jpeg:https://www.bourguette-autisme.org/wp-content/uploads/2025/01/affiche-Detours-3.jpg
ORGANIZER;CN="ZimZam":MAILTO:contact@zimzam.fr
END:VEVENT
END:VCALENDAR