BEGIN:VCALENDAR
VERSION:2.0
PRODID:-//Association La Bourguette-autisme - ECPv5.9.1//NONSGML v1.0//EN
CALSCALE:GREGORIAN
METHOD:PUBLISH
X-WR-CALNAME:Association La Bourguette-autisme
X-ORIGINAL-URL:https://www.bourguette-autisme.org
X-WR-CALDESC:évènements pour Association La Bourguette-autisme
BEGIN:VTIMEZONE
TZID:Europe/Paris
BEGIN:DAYLIGHT
TZOFFSETFROM:+0100
TZOFFSETTO:+0200
TZNAME:CEST
DTSTART:20250330T010000
END:DAYLIGHT
BEGIN:STANDARD
TZOFFSETFROM:+0200
TZOFFSETTO:+0100
TZNAME:CET
DTSTART:20251026T010000
END:STANDARD
END:VTIMEZONE
BEGIN:VEVENT
DTSTART;TZID=Europe/Paris:20250208T190000
DTEND;TZID=Europe/Paris:20250208T233000
DTSTAMP:20260421T154411
CREATED:20250219T122816Z
LAST-MODIFIED:20250219T122816Z
UID:21164-1739041200-1739057400@www.bourguette-autisme.org
SUMMARY:Soirée Les Sons du Lub'
DESCRIPTION:Le 8 février 2025 – 19h00 \nConcert : La Singular Tropique – Cumbia \nSoirée festive concert sous le chapiteau Bourguette. After avec le DJ Tutu!
URL:https://www.bourguette-autisme.org/evenement/soiree-les-sons-du-lub/
LOCATION:Chapiteau Bourguette\, 998 chemin de La Bourguette\, La Tour d'Aigues\, 84240
CATEGORIES:Association La Bourguette,Châpiteau
ATTACH;FMTTYPE=image/png:https://www.bourguette-autisme.org/wp-content/uploads/2025/02/2025-02-08-les-sons-du-lub.png
ORGANIZER;CN="ZimZam":MAILTO:contact@zimzam.fr
END:VEVENT
END:VCALENDAR