BEGIN:VCALENDAR
VERSION:2.0
PRODID:-//Association La Bourguette-autisme - ECPv5.9.1//NONSGML v1.0//EN
CALSCALE:GREGORIAN
METHOD:PUBLISH
X-WR-CALNAME:Association La Bourguette-autisme
X-ORIGINAL-URL:https://www.bourguette-autisme.org
X-WR-CALDESC:évènements pour Association La Bourguette-autisme
BEGIN:VTIMEZONE
TZID:Europe/Paris
BEGIN:DAYLIGHT
TZOFFSETFROM:+0100
TZOFFSETTO:+0200
TZNAME:CEST
DTSTART:20250330T010000
END:DAYLIGHT
BEGIN:STANDARD
TZOFFSETFROM:+0200
TZOFFSETTO:+0100
TZNAME:CET
DTSTART:20251026T010000
END:STANDARD
END:VTIMEZONE
BEGIN:VEVENT
DTSTART;VALUE=DATE:20250401
DTEND;VALUE=DATE:20250407
DTSTAMP:20260422T002129
CREATED:20250219T074544Z
LAST-MODIFIED:20250319T084209Z
UID:21145-1743465600-1743983999@www.bourguette-autisme.org
SUMMARY:Festival WATSU LIVE
DESCRIPTION:Festival jeune public \n\n du 1er au 6 avril 2025\n\n\n au Chapiteau de La Bourguette à La Tour d’Aigues et villages du Sud-Luberon\n\n\n https://www.watsusound.fr\n\n\n 06 80 20 25 44\n\n \nUn événement qui met en avant : \n\nLe lien familial\nL’ouverture à l’autre\, à sa différence\, avec un événement qui se veut ouvert à tous\nPluri-artistique : musique\, théâtre\, littérature\, dessin\, arts plastiques\nLocal en faisant la part belle aux associations culturelles et artistiques du bassin sud-luberonnais\nProgrammation artistique d’envergure régionale et nationale.\n\nPROGRAMMATION  et BILLETTERIE \n  \n 
URL:https://www.bourguette-autisme.org/evenement/festival-watsu-live/
LOCATION:Chapiteau Bourguette\, 998 chemin de La Bourguette\, La Tour d'Aigues\, 84240
CATEGORIES:Association La Bourguette,Châpiteau
ATTACH;FMTTYPE=image/jpeg:https://www.bourguette-autisme.org/wp-content/uploads/2025/01/2025-affiche-watsulive25-2.jpg
END:VEVENT
END:VCALENDAR