BEGIN:VCALENDAR
VERSION:2.0
PRODID:-//Association La Bourguette-autisme - ECPv5.9.1//NONSGML v1.0//EN
CALSCALE:GREGORIAN
METHOD:PUBLISH
X-WR-CALNAME:Association La Bourguette-autisme
X-ORIGINAL-URL:https://www.bourguette-autisme.org
X-WR-CALDESC:évènements pour Association La Bourguette-autisme
BEGIN:VTIMEZONE
TZID:Europe/Paris
BEGIN:DAYLIGHT
TZOFFSETFROM:+0100
TZOFFSETTO:+0200
TZNAME:CEST
DTSTART:20250330T010000
END:DAYLIGHT
BEGIN:STANDARD
TZOFFSETFROM:+0200
TZOFFSETTO:+0100
TZNAME:CET
DTSTART:20251026T010000
END:STANDARD
END:VTIMEZONE
BEGIN:VEVENT
DTSTART;TZID=Europe/Paris:20250420T100000
DTEND;TZID=Europe/Paris:20250420T150000
DTSTAMP:20260423T042854
CREATED:20250313T083949Z
LAST-MODIFIED:20250313T083949Z
UID:21208-1745143200-1745161200@www.bourguette-autisme.org
SUMMARY:Chasse aux Oeufs du Grand Réal
DESCRIPTION:Le Grand Réal organise une chasse aux œufs géante le 20 avril 2025\, sur le domaine. \n\n \n\n\n📅 Date : dimanche 20 avril 2025 de 10h à 15h30\n\n\n💰 Tarif : 9€ par personne \n\n\n \n\n\nAu programme :\n\n\n🥚 Chasse aux œufs \n\n\n🍫 1 chocolat de Pâques fabriqué par la chocolaterie Amande Olive & Chocolat offert\n\n\n🥤 1 jus de fruits offert\n\n\n🍹 Buvette et planches apéritives gourmandes\n\n\n🎲 Jeux en bois pour s’amuser en famille\n\n\n🐐 Visite de la ferme pédagogique L’Échappée Bêle(tarif : 5€)\n\n\n \n\n\n📍 Infos & Réservations : 04 90 07 55 66 – sandrine.pouzerat@labourguette.org\n\n\n🎯 Adresse : Chemin des Gourguettes – 84120 La Bastidonne\n\n\n \n\n\nVenez partager un moment festif et gourmand au cœur de la nature ! \n\n\n\n Nos partenaires\n\n\n   
URL:https://www.bourguette-autisme.org/evenement/chasse-aux-oeufs-du-grand-real/
LOCATION:Grand Réal\, chemin des Gourguettes\, La Bastidonne\, 84120
CATEGORIES:L’ESAT du Grand Réal
ATTACH;FMTTYPE=image/png:https://www.bourguette-autisme.org/wp-content/uploads/2025/03/Affiche-Chasse-aux-oeufs-Paques-illustratif-colore3.png
END:VEVENT
END:VCALENDAR