BEGIN:VCALENDAR
VERSION:2.0
PRODID:-//Association La Bourguette-autisme - ECPv5.9.1//NONSGML v1.0//EN
CALSCALE:GREGORIAN
METHOD:PUBLISH
X-WR-CALNAME:Association La Bourguette-autisme
X-ORIGINAL-URL:https://www.bourguette-autisme.org
X-WR-CALDESC:évènements pour Association La Bourguette-autisme
BEGIN:VTIMEZONE
TZID:Europe/Paris
BEGIN:DAYLIGHT
TZOFFSETFROM:+0100
TZOFFSETTO:+0200
TZNAME:CEST
DTSTART:20250330T010000
END:DAYLIGHT
BEGIN:STANDARD
TZOFFSETFROM:+0200
TZOFFSETTO:+0100
TZNAME:CET
DTSTART:20251026T010000
END:STANDARD
END:VTIMEZONE
BEGIN:VEVENT
DTSTART;VALUE=DATE:20250430
DTEND;VALUE=DATE:20250505
DTSTAMP:20260424T003923
CREATED:20250221T095311Z
LAST-MODIFIED:20250225T160305Z
UID:21186-1745971200-1746403199@www.bourguette-autisme.org
SUMMARY:SM'ART
DESCRIPTION:Le Salon Méditerranéen d’Art Contemporain. \n250 artistes et 50 galeries exposent.
URL:https://www.bourguette-autisme.org/evenement/smart-2/
LOCATION:Parc Jourdan\, Avenue Jules Ferry\, Aix-en-Provence\, 13100
CATEGORIES:Association La Bourguette,L’ESAT du Grand Réal
ATTACH;FMTTYPE=image/png:https://www.bourguette-autisme.org/wp-content/uploads/2025/02/logo-smart-2025.png
END:VEVENT
END:VCALENDAR