BEGIN:VCALENDAR
VERSION:2.0
PRODID:-//Association La Bourguette-autisme - ECPv5.9.1//NONSGML v1.0//EN
CALSCALE:GREGORIAN
METHOD:PUBLISH
X-WR-CALNAME:Association La Bourguette-autisme
X-ORIGINAL-URL:https://www.bourguette-autisme.org
X-WR-CALDESC:évènements pour Association La Bourguette-autisme
BEGIN:VTIMEZONE
TZID:Europe/Paris
BEGIN:DAYLIGHT
TZOFFSETFROM:+0100
TZOFFSETTO:+0200
TZNAME:CEST
DTSTART:20260329T010000
END:DAYLIGHT
BEGIN:STANDARD
TZOFFSETFROM:+0200
TZOFFSETTO:+0100
TZNAME:CET
DTSTART:20261025T010000
END:STANDARD
END:VTIMEZONE
BEGIN:VEVENT
DTSTART;VALUE=DATE:20260603
DTEND;VALUE=DATE:20260608
DTSTAMP:20260421T115715
CREATED:20260116T112308Z
LAST-MODIFIED:20260116T112845Z
UID:23057-1780444800-1780876799@www.bourguette-autisme.org
SUMMARY:FADOLI'S CIRCUS 2026
DESCRIPTION:Du mercredi 3 au dimanche 7 juin 2026 \n\n​8 spectacles\n1 Dj · 1 Fanfare\n1 château · 1 chapiteau\nAteliers cirque\n\nRestauration sur place \nBILLETTERIE & PROGRAMMATION à venir
URL:https://www.bourguette-autisme.org/evenement/fadolis-circus-2026/
LOCATION:Chapiteau Bourguette\, 998 chemin de La Bourguette\, La Tour d'Aigues\, 84240
CATEGORIES:Association La Bourguette,Châpiteau
ATTACH;FMTTYPE=application/pdf:https://www.bourguette-autisme.org/wp-content/uploads/2026/01/FADOLIS-A3-2026.pdf
ORGANIZER;CN="ZimZam":MAILTO:contact@zimzam.fr
END:VEVENT
END:VCALENDAR