BEGIN:VCALENDAR
VERSION:2.0
PRODID:-//Association La Bourguette-autisme - ECPv5.9.1//NONSGML v1.0//EN
CALSCALE:GREGORIAN
METHOD:PUBLISH
X-WR-CALNAME:Association La Bourguette-autisme
X-ORIGINAL-URL:https://www.bourguette-autisme.org
X-WR-CALDESC:évènements pour Association La Bourguette-autisme
BEGIN:VTIMEZONE
TZID:Europe/Paris
BEGIN:DAYLIGHT
TZOFFSETFROM:+0100
TZOFFSETTO:+0200
TZNAME:CEST
DTSTART:20250330T010000
END:DAYLIGHT
BEGIN:STANDARD
TZOFFSETFROM:+0200
TZOFFSETTO:+0100
TZNAME:CET
DTSTART:20251026T010000
END:STANDARD
END:VTIMEZONE
BEGIN:VEVENT
DTSTART;TZID=Europe/Paris:20250803T183000
DTEND;TZID=Europe/Paris:20250803T210000
DTSTAMP:20260421T223352
CREATED:20250318T104447Z
LAST-MODIFIED:20250515T065659Z
UID:21347-1754245800-1754254800@www.bourguette-autisme.org
SUMMARY:Apéro dans les Vignes
DESCRIPTION:Un moment convivial au cœur de notre domaine 🍇 Dernière date\n \n Rejoignez-nous pour un Apéro dans les vignes et profitez d’une soirée gourmande et festive ! \n🌿 Au programme :🍷 Dégustation de nos vins Bio🛍 Découverte de nos productions et de notre boutique🎶 Ambiance musicale en live🥖 Planches à partager : charcuteries\, fromages et tartinables \nInstallez-vous au pied des vignes et des oliviers\, laissez-vous porter par l’atmosphère et savourez l’instant ! \n\n📅 Date :  3 août 2025 \n\n\n⏰ Horaires : 18h30 à 21h\n\n\n📍 Lieu : Le Grand Réal – chemin des Gourguettes – 84120 La Bastidonne\n\n\n📞 Réservations & infos : 07-61-57-30-52 / sandrine.pouzerat@labourguette.org\n\n  \nVenez entre amis ou en famille pour partager un moment chaleureux et convivial ! ✨ \nTarif : \n\ntartinable : 8€\nplanche charcuterie / fromage : 18 € / 2 personnes\nverre de vin rosé/rouge bio : 2 €\nverre de vin micro-vinification : 3 €
URL:https://www.bourguette-autisme.org/evenement/apero-dans-les-vignes-4/
LOCATION:Grand Réal\, chemin des Gourguettes\, La Bastidonne\, 84120
CATEGORIES:L’ESAT du Grand Réal
END:VEVENT
END:VCALENDAR