BEGIN:VCALENDAR
VERSION:2.0
PRODID:-//Association La Bourguette-autisme - ECPv5.9.1//NONSGML v1.0//EN
CALSCALE:GREGORIAN
METHOD:PUBLISH
X-WR-CALNAME:Association La Bourguette-autisme
X-ORIGINAL-URL:https://www.bourguette-autisme.org
X-WR-CALDESC:évènements pour Association La Bourguette-autisme
BEGIN:VTIMEZONE
TZID:Europe/Paris
BEGIN:DAYLIGHT
TZOFFSETFROM:+0100
TZOFFSETTO:+0200
TZNAME:CEST
DTSTART:20250330T010000
END:DAYLIGHT
BEGIN:STANDARD
TZOFFSETFROM:+0200
TZOFFSETTO:+0100
TZNAME:CET
DTSTART:20251026T010000
END:STANDARD
END:VTIMEZONE
BEGIN:VEVENT
DTSTART;TZID=Europe/Paris:20250927T170000
DTEND;TZID=Europe/Paris:20250927T220000
DTSTAMP:20260421T154830
CREATED:20250903T112728Z
LAST-MODIFIED:20250903T114448Z
UID:22413-1758992400-1759010400@www.bourguette-autisme.org
SUMMARY:Bobby Watson de retour à Cabasse
DESCRIPTION:Bobby Watson\, en compagnie de Lord Kobold\, raconte « Boucle d’Or » à sa façon. Une adaptation « sauvage » du conte qui revisite de manière féroce\, fantaisiste et subversive le conte traditionnel. Bobby Watson se rebelle contre la morale\, se moque des interdits et enfreint les règles de bienséance pour le plaisir des petits et des grands ! \nProgramme : \n\nAccueil à partir de 17h\nSpectacle à 18h  (durée  : 50 min)\n\nÇa se passe où ? dans l’amphithéâtre des établissements de Valbonne à Cabasse. \nTarif : 10 €  (adulte)/ 5 € (enfant) \nRestauration sur place :  \n\nPoke bowl sur réservation : 19€\nPetite restauration\nréservation : 04 98 05 24 90 – valbonne@labourguette.org\n\nInfos & réservations spectacle : \n\nErick : 06 70 31 24 60 – erick-harel@orange.fr\nCaroline : 06 73 15 06\n\nREVUE DE PRESSE DU SPECTACLE
URL:https://www.bourguette-autisme.org/evenement/bobby-watson-de-retour-a-cabasse/
LOCATION:ESAT de Valbonne\, 1139 Route de Besse\, Cabasse\, 83340\, France
CATEGORIES:L’ESAT de Valbonne
ATTACH;FMTTYPE=image/jpeg:https://www.bourguette-autisme.org/wp-content/uploads/2025/09/affiche-Bobby-watson-2.jpg
ORGANIZER;CN="ESAT%20de%20Valbonne":MAILTO:valbonne@labourguette.org
END:VEVENT
END:VCALENDAR