BEGIN:VCALENDAR
VERSION:2.0
PRODID:-//Association La Bourguette-autisme - ECPv5.9.1//NONSGML v1.0//EN
CALSCALE:GREGORIAN
METHOD:PUBLISH
X-WR-CALNAME:Association La Bourguette-autisme
X-ORIGINAL-URL:https://www.bourguette-autisme.org
X-WR-CALDESC:évènements pour Association La Bourguette-autisme
BEGIN:VTIMEZONE
TZID:Europe/Paris
BEGIN:DAYLIGHT
TZOFFSETFROM:+0100
TZOFFSETTO:+0200
TZNAME:CEST
DTSTART:20250330T010000
END:DAYLIGHT
BEGIN:STANDARD
TZOFFSETFROM:+0200
TZOFFSETTO:+0100
TZNAME:CET
DTSTART:20251026T010000
END:STANDARD
END:VTIMEZONE
BEGIN:VEVENT
DTSTART;TZID=Europe/Paris:20250907T150000
DTEND;TZID=Europe/Paris:20250907T180000
DTSTAMP:20260421T223642
CREATED:20250516T064849Z
LAST-MODIFIED:20250821T144639Z
UID:21816-1757257200-1757268000@www.bourguette-autisme.org
SUMMARY:Concert solidaire avec le groupe "Accentu" - chants corses
DESCRIPTION:Nouvelle date pour le concert de Chants Corses : 7 septembre 2025 de 15h à 18h \n\nLe groupe de Chants Corses\, Accentu\, venu répéter dans la yourte installée aux Capelières en présence de quelques résidents et éducateurs\, et dont les chanteurs sont des parents d’un résident\, propose d’organiser un concert au profit de La Bourguette le dimanche 7 septembre 2025 à 15h à l’Église Saint Nicolas à Pertuis (84120). \nTous les bénéfices seront reversés à La Bourguette. \nBilletterie : RÉSERVEZ DÈS MAINTENANT \nTarif : 15€
URL:https://www.bourguette-autisme.org/evenement/concert-accentu-chants-corses/
LOCATION:Eglise Saint Nicolas\, Place Mirabeau\, Pertuis\, 84120
CATEGORIES:Association La Bourguette,FAM les Capelières
ATTACH;FMTTYPE=image/png:https://www.bourguette-autisme.org/wp-content/uploads/2025/05/CONCERT-ACCENTU-7-sept.png
ORGANIZER;CN="Association%20La%20Bourguette":MAILTO:evenement@labourguette.org
END:VEVENT
END:VCALENDAR