BEGIN:VCALENDAR
VERSION:2.0
PRODID:-//Association La Bourguette-autisme - ECPv5.9.1//NONSGML v1.0//EN
CALSCALE:GREGORIAN
METHOD:PUBLISH
X-WR-CALNAME:Association La Bourguette-autisme
X-ORIGINAL-URL:https://www.bourguette-autisme.org
X-WR-CALDESC:évènements pour Association La Bourguette-autisme
BEGIN:VTIMEZONE
TZID:Europe/Paris
BEGIN:DAYLIGHT
TZOFFSETFROM:+0100
TZOFFSETTO:+0200
TZNAME:CEST
DTSTART:20250330T010000
END:DAYLIGHT
BEGIN:STANDARD
TZOFFSETFROM:+0200
TZOFFSETTO:+0100
TZNAME:CET
DTSTART:20251026T010000
END:STANDARD
END:VTIMEZONE
BEGIN:VEVENT
DTSTART;VALUE=DATE:20251011
DTEND;VALUE=DATE:20251012
DTSTAMP:20260421T141643
CREATED:20250219T081114Z
LAST-MODIFIED:20250219T081114Z
UID:21159-1760140800-1760227199@www.bourguette-autisme.org
SUMMARY:Détours de Cirque #3 / 20 ans de ZimZam
DESCRIPTION:Cabaret de numéros de cirque le 11 octobre 2025.
URL:https://www.bourguette-autisme.org/evenement/detours-de-cirque-3-20-ans-de-zimzam/
LOCATION:Chapiteau Bourguette\, 998 chemin de La Bourguette\, La Tour d'Aigues\, 84240
CATEGORIES:Association La Bourguette,Châpiteau
ATTACH;FMTTYPE=image/png:https://www.bourguette-autisme.org/wp-content/uploads/2024/10/ZIMZAM2.png
ORGANIZER;CN="ZimZam":MAILTO:contact@zimzam.fr
END:VEVENT
END:VCALENDAR