BEGIN:VCALENDAR
VERSION:2.0
PRODID:-//Association La Bourguette-autisme - ECPv5.9.1//NONSGML v1.0//EN
CALSCALE:GREGORIAN
METHOD:PUBLISH
X-WR-CALNAME:Association La Bourguette-autisme
X-ORIGINAL-URL:https://www.bourguette-autisme.org
X-WR-CALDESC:évènements pour Association La Bourguette-autisme
BEGIN:VTIMEZONE
TZID:Europe/Paris
BEGIN:DAYLIGHT
TZOFFSETFROM:+0100
TZOFFSETTO:+0200
TZNAME:CEST
DTSTART:20250330T010000
END:DAYLIGHT
BEGIN:STANDARD
TZOFFSETFROM:+0200
TZOFFSETTO:+0100
TZNAME:CET
DTSTART:20251026T010000
END:STANDARD
END:VTIMEZONE
BEGIN:VEVENT
DTSTART;VALUE=DATE:20250514
DTEND;VALUE=DATE:20250519
DTSTAMP:20260424T035807
CREATED:20250219T080354Z
LAST-MODIFIED:20250325T094949Z
UID:21152-1747180800-1747612799@www.bourguette-autisme.org
SUMMARY:Festival Fadoli's Circus
DESCRIPTION:Festival de Cirque \n 14 au 18 mai 2025 9 spectacles 1 fanfare\, 1 DJ 1 chapiteau\, 1 château 998 chemin de la Bourguette 84240 La Tour d’Aigues Buvette et restauration sur place \nLe programme est varié entre spectacles\, ateliers\, jeux et concerts pour le jour et la nuit. Une restauration et une buvette sont présentes sur place pour répondre à toutes vos gourmandises ! \nPlongez le temps d’un long week-end dans l’univers des arts du cirque sous toutes ces formes. Acrobaties\, contorsion\, suspension\,… ne manquez pas ce rendez-vous à vivre en famille et entre amis-es.\n\nC’est un festival de cirque d’aujourd’hui\, vivant\, contemporain\, mettant en avant des créations aussi spectaculaires que sensibles. C’est aussi un festival de cirque différent… Parce qu’il propose des spectacles professionnels mêlant parfois artistes dits valides et/ou en situation de handicap\, parce qu’il inclut dans son organisation même la participation de personnes en situation de handicap\, parce qu’il est construit autour de l’accessibilité\, la mixité et le rencontre des publics.\n\n————————————————-\n\nBILLETTERIE et PROGRAMME\nPlus d’informations sur https://www.zimzam.fr/fadoliscircus2025
URL:https://www.bourguette-autisme.org/evenement/festival-fadolis-circus-2/
LOCATION:Chapiteau Bourguette\, 998 chemin de La Bourguette\, La Tour d'Aigues\, 84240
CATEGORIES:Association La Bourguette,Châpiteau
ATTACH;FMTTYPE=image/jpeg:https://www.bourguette-autisme.org/wp-content/uploads/2025/02/Sans-titre-1.jpg
ORGANIZER;CN="ZimZam":MAILTO:contact@zimzam.fr
END:VEVENT
END:VCALENDAR