BEGIN:VCALENDAR
VERSION:2.0
PRODID:-//Association La Bourguette-autisme - ECPv5.9.1//NONSGML v1.0//EN
CALSCALE:GREGORIAN
METHOD:PUBLISH
X-WR-CALNAME:Association La Bourguette-autisme
X-ORIGINAL-URL:https://www.bourguette-autisme.org
X-WR-CALDESC:évènements pour Association La Bourguette-autisme
BEGIN:VTIMEZONE
TZID:Europe/Paris
BEGIN:DAYLIGHT
TZOFFSETFROM:+0100
TZOFFSETTO:+0200
TZNAME:CEST
DTSTART:20250330T010000
END:DAYLIGHT
BEGIN:STANDARD
TZOFFSETFROM:+0200
TZOFFSETTO:+0100
TZNAME:CET
DTSTART:20251026T010000
END:STANDARD
END:VTIMEZONE
BEGIN:VEVENT
DTSTART;TZID=Europe/Paris:20250620T180000
DTEND;TZID=Europe/Paris:20250620T233000
DTSTAMP:20260422T071824
CREATED:20250604T094750Z
LAST-MODIFIED:20250613T093010Z
UID:21993-1750442400-1750462200@www.bourguette-autisme.org
SUMMARY:Fête de la MUSIK
DESCRIPTION:L’ESAT de Valbonne organise sa fête de la MUSIK le vendredi 20 juin 2025 à partir de 18h \n\n\n\n\nAu programme : 2 concerts gratuits\n🔸 18h30 – MO SELECTA (électro world)\n🔸 20h00 – LES ETCHAPES DE BABYLON (reggae festif)\n\nPour vous régalez sur place :\n🍽 Couscous royal (et une boisson au choix) : 20 € – sur réservation uniquement\n🥤 Buvette et petite restauration sur place\n\n📞 Infos & réservations :\nESAT de Valbonne – Route de Besse – 83340 CABASSE\n📱 04 98 05 24 90 / 04 98 05 24 93 – 📧 valbonne@labourguette.org\n \nVenez nombreux pour partager une belle soirée en plein air\, en musique\, bonne humeur garantie !
URL:https://www.bourguette-autisme.org/evenement/fete-de-la-musik/
LOCATION:Auberge de Valbonne\, Domaine de Valbonne - route de Besse\, CABASSE\, 83340\, France
CATEGORIES:Association La Bourguette,L’ESAT de Valbonne,Le FAM de Valbonne,Le FH de Valbonne
ATTACH;FMTTYPE=image/png:https://www.bourguette-autisme.org/wp-content/uploads/2025/06/affiche-fete-de-la-musik-valbonne.png
ORGANIZER;CN="ESAT%20de%20Valbonne":MAILTO:valbonne@labourguette.org
END:VEVENT
END:VCALENDAR