BEGIN:VCALENDAR
VERSION:2.0
PRODID:-//Association La Bourguette-autisme - ECPv5.9.1//NONSGML v1.0//EN
CALSCALE:GREGORIAN
METHOD:PUBLISH
X-WR-CALNAME:Association La Bourguette-autisme
X-ORIGINAL-URL:https://www.bourguette-autisme.org
X-WR-CALDESC:évènements pour Association La Bourguette-autisme
BEGIN:VTIMEZONE
TZID:Europe/Paris
BEGIN:DAYLIGHT
TZOFFSETFROM:+0100
TZOFFSETTO:+0200
TZNAME:CEST
DTSTART:20250330T010000
END:DAYLIGHT
BEGIN:STANDARD
TZOFFSETFROM:+0200
TZOFFSETTO:+0100
TZNAME:CET
DTSTART:20251026T010000
END:STANDARD
END:VTIMEZONE
BEGIN:VEVENT
DTSTART;TZID=Europe/Paris:20250508T100000
DTEND;TZID=Europe/Paris:20250508T170000
DTSTAMP:20260424T022229
CREATED:20250328T150205Z
LAST-MODIFIED:20250328T151013Z
UID:21483-1746698400-1746723600@www.bourguette-autisme.org
SUMMARY:Foire aux plants et vide-greniers
DESCRIPTION:L’ESAT de Valbonne organise une foire aux plants et vide-greniers les  8 mai – 29 mai. \nConcerts gratuits (en matinée et en début d’après-midi) \n\n8 mai : Cosimo Blues Duo\n29 mai : Psykotic Orkestar\n\n \n  \n  \n  \n  \n  \n  \n  \n\nBuvette et Petite restauration préparée par nos travailleurs\, sur place.\n\n——————————————— \nVous êtes horticulteur\, producteur local\, artisan ou particulier souhaitant vendre plants\, fleurs\, outillage de jardin ou objets d’occasion? Rejoignez-nous pour un moment convivial (participation solidaire) \nInformations : 04 98 05 24 90 – valbonne@labourguette.org
URL:https://www.bourguette-autisme.org/evenement/foire-aux-plants-et-vide-greniers-2/
LOCATION:Auberge de Valbonne\, Domaine de Valbonne - route de Besse\, CABASSE\, 83340\, France
CATEGORIES:Association La Bourguette,L’ESAT de Valbonne
ATTACH;FMTTYPE=image/jpeg:https://www.bourguette-autisme.org/wp-content/uploads/2025/03/2025-05-depliant-concert-foire-aux-plants-scaled-e1743173778306.jpg
ORGANIZER;CN="ESAT%20de%20Valbonne":MAILTO:valbonne@labourguette.org
END:VEVENT
END:VCALENDAR