BEGIN:VCALENDAR
VERSION:2.0
PRODID:-//Association La Bourguette-autisme - ECPv5.9.1//NONSGML v1.0//EN
CALSCALE:GREGORIAN
METHOD:PUBLISH
X-WR-CALNAME:Association La Bourguette-autisme
X-ORIGINAL-URL:https://www.bourguette-autisme.org
X-WR-CALDESC:évènements pour Association La Bourguette-autisme
BEGIN:VTIMEZONE
TZID:Europe/Paris
BEGIN:DAYLIGHT
TZOFFSETFROM:+0100
TZOFFSETTO:+0200
TZNAME:CEST
DTSTART:20250330T010000
END:DAYLIGHT
BEGIN:STANDARD
TZOFFSETFROM:+0200
TZOFFSETTO:+0100
TZNAME:CET
DTSTART:20251026T010000
END:STANDARD
END:VTIMEZONE
BEGIN:VEVENT
DTSTART;TZID=Europe/Paris:20250529T100000
DTEND;TZID=Europe/Paris:20250529T170000
DTSTAMP:20260422T110925
CREATED:20250328T150614Z
LAST-MODIFIED:20250515T083924Z
UID:21486-1748512800-1748538000@www.bourguette-autisme.org
SUMMARY:Foire aux plants et vide-greniers SOLIDAIRES
DESCRIPTION:L’ESAT de Valbonne organise une foire aux plants et vide-greniers au profit de l’association La Bourguette. Tous les bénéfices seront reversés aux établissements de Valbonne. \nSi vous êtes parents\, amis\, partenaires de La Bourguette\, rejoignez nous le 29 mai et aidez-nous à faire de cette journée une réussite. \nInformations : 04 98 05 24 90 – valbonne@labourguette.org \n \n  \n  \n\nConcert gratuit (en matinée et en début d’après-midi) : Psykotic Orkestar\nBuvette et Petite restauration préparée par nos travailleurs\, sur place.\n\n 
URL:https://www.bourguette-autisme.org/evenement/foire-aux-plants-et-vide-greniers-3/
LOCATION:Auberge de Valbonne\, Domaine de Valbonne - route de Besse\, CABASSE\, 83340\, France
CATEGORIES:Association La Bourguette,L’ESAT de Valbonne
ORGANIZER;CN="ESAT%20de%20Valbonne":MAILTO:valbonne@labourguette.org
END:VEVENT
END:VCALENDAR