BEGIN:VCALENDAR
VERSION:2.0
PRODID:-//Association La Bourguette-autisme - ECPv5.9.1//NONSGML v1.0//EN
CALSCALE:GREGORIAN
METHOD:PUBLISH
X-WR-CALNAME:Association La Bourguette-autisme
X-ORIGINAL-URL:https://www.bourguette-autisme.org
X-WR-CALDESC:évènements pour Association La Bourguette-autisme
BEGIN:VTIMEZONE
TZID:Europe/Paris
BEGIN:DAYLIGHT
TZOFFSETFROM:+0100
TZOFFSETTO:+0200
TZNAME:CEST
DTSTART:20250330T010000
END:DAYLIGHT
BEGIN:STANDARD
TZOFFSETFROM:+0200
TZOFFSETTO:+0100
TZNAME:CET
DTSTART:20251026T010000
END:STANDARD
END:VTIMEZONE
BEGIN:VEVENT
DTSTART;VALUE=DATE:20250919
DTEND;VALUE=DATE:20250922
DTSTAMP:20260421T205457
CREATED:20250709T072528Z
LAST-MODIFIED:20250821T142208Z
UID:22132-1758240000-1758499199@www.bourguette-autisme.org
SUMMARY:Exposition Georges SOLEILHET - Poète et artiste - Le souffle & le geste
DESCRIPTION:À l’occasion des Journées du Patrimoine\, le Château de La Tour d’Aigues (84240) ouvre ses portes du 19 au 21 septembre pour une immersion artistique autour de l’œuvre de Georges SOLEILHET 🎨📖 \n\n🖼 Du 19 au 21 septembre : exposition des œuvres de Georges SOLEILHET – Poète / Artiste – Le souffle & le geste au château de La Tour d’Aigues.\n\n\n \n\n\n✨ Vendredi 19 septembre – 18h30 : Présentation des œuvres poétiques par Marie-Noëlle HOPITAL et lectures de poèmes.\n\n\nUn stand des produits de La Bourguette sera également présent. \n 
URL:https://www.bourguette-autisme.org/evenement/hommage-a-georges-soleilhet-exposition-de-ses-tableaux-et-presentation-de-ses-oeuvres-poetiques/
LOCATION:Chateau de La Tour d’Aigues\, La Tour d'Aigues\, 84240
CATEGORIES:Association La Bourguette
ATTACH;FMTTYPE=image/jpeg:https://www.bourguette-autisme.org/wp-content/uploads/2025/07/Com-expo-chateau-georges-s_Page_1-e1755701711656.jpeg
END:VEVENT
END:VCALENDAR