BEGIN:VCALENDAR
VERSION:2.0
PRODID:-//Association La Bourguette-autisme - ECPv5.9.1//NONSGML v1.0//EN
CALSCALE:GREGORIAN
METHOD:PUBLISH
X-WR-CALNAME:Association La Bourguette-autisme
X-ORIGINAL-URL:https://www.bourguette-autisme.org
X-WR-CALDESC:évènements pour Association La Bourguette-autisme
BEGIN:VTIMEZONE
TZID:Europe/Paris
BEGIN:DAYLIGHT
TZOFFSETFROM:+0100
TZOFFSETTO:+0200
TZNAME:CEST
DTSTART:20250330T010000
END:DAYLIGHT
BEGIN:STANDARD
TZOFFSETFROM:+0200
TZOFFSETTO:+0100
TZNAME:CET
DTSTART:20251026T010000
END:STANDARD
END:VTIMEZONE
BEGIN:VEVENT
DTSTART;VALUE=DATE:20250530
DTEND;VALUE=DATE:20250601
DTSTAMP:20260422T090955
CREATED:20250210T095350Z
LAST-MODIFIED:20250515T064928Z
UID:21012-1748563200-1748735999@www.bourguette-autisme.org
SUMMARY:Les artistes œuvrent pour l'autisme
DESCRIPTION:Une vente aux enchères d’œuvres d’art pour accompagner les autistes de l’Association La Bourguette.\nLes artistes œuvrent pour l’autisme \nVente aux enchères d’œuvres d’art organisée à Lourmarin 84160 \ndu 30 au 31 mai 2025\, dans les locaux de la fruitière numérique de Lourmarin. \n\nVous pouvez participer sur le site Interencheres 👉 https://bit.ly/3GSByyN\n\n\n🎨 118 lots\, des œuvres de qualité \n\n\n➡️ Inscrivez-vous\, partager\, prenez connaissance des œuvres proposées et participez le 31 mai ! \n\nDu 30 mai au 31 mai 2025\, dans les locaux de la Fruitière Numérique de Lourmarin\, une vente aux enchères professionnelle sera organisée\, sous la responsabilité de Maitre Emmanuelle Hours\, Commissaire-priseur à Aix en Provence\, en présentiel\, avec présentation des œuvres mais aussi en ligne. \nLe 30 mai et 31 mai\, les œuvres présentées pour les enchères (peintures\, sculptures\, photographies …) seront visibles dans les locaux de La Fruitière Numérique\, mais aussi répertoriées sur une site internet dédié (avec présentation des artistes) et sur la page facebook\, et sur un catalogue \nCeci permettra aux acheteurs potentiels de percevoir l’intérêt et la grande qualité de ces œuvres d’art proposées\, ainsi que les profils et motivations des artistes concernés. \nL’après midi du 31 mai les enchères seront organisées. \nSoyez nombreux à participer à cette vente aux enchères solidaire\, en faveur de la lutte contre l’autisme. \n——————————- \n\nProgramme des 30 et 31 mai à la Fruitière numérique de Lourmarin :\n\n\nLes œuvres seront exposées dans la grande salle le 30 mai toute la journée\, et le 31 au matin. Il sera possible de rencontre les artistes !\n\n\n-Le 30 à 11h\, projection du magnifique film sur la création artistique « Par delà les séances » \n\n\n-Le 30 en soirée\, concert avec : \n\nle groupe Pate à Swing\nVirginie Zurfluh qui chante Véronique Sanson\nJean-Marc Tomaselli.\n\n– Le 31 mai après-midi\, les enchères\, en présentiel\, mais aussi en live ! \n\n\n———————————- \nLe Pays d’Aigues/Sud Luberon est une pépinière d’artistes et galeries d’art\, de grande qualité. \nIl est aussi un lieu de solidarité\, en témoigne la présence de nombreuses associations. \nAinsi le Rotary « Pertuis Sud-Luberon »\, fondé il y a maintenant 50 ans \, bénéficie d’un savoir-faire opportun lui permettant de faire le lien entre le monde artistique ( valoriser les artistes) et les actions de bénévolat. \nLe Rotary « Pertuis Sud-Luberon » entend\, en 2025\, porter la lutte contre l’autisme\, parmi ses activités prioritaires. \nPour mémoire\, le Rotary international a permis\, par des actions efficaces\, d’éradiquer la polio au niveau mondial. \nLe Rotary Pertuis Sud-Luberon se propose de s’inspirer\, à son échelle\, de cet exemple\, en soutenant les objectifs de l’association « La Bourguette ». \nLe Rotary Pertuis Sud Luberon entend soutenir cette cause en mobilisant les artistes et les galeries\, de notre région et au-delà\, communautés vivantes et motivées. \nFaisons-les davantage connaître grâce à l’action humanitaire en faveur de la lutte contre l’autisme qui sera menée fin mai à Lourmarin. \n  \nPlus d’informations sur https://rotaryartautisme.fr/ \n 
URL:https://www.bourguette-autisme.org/evenement/les-artistes-oeuvrent-pour-lautisme/
LOCATION:La Fruitière numérique\, D943 Av. du 8 Mai\, LOURMARIN\, 84160
CATEGORIES:Association La Bourguette
ATTACH;FMTTYPE=image/png:https://www.bourguette-autisme.org/wp-content/uploads/2025/02/affiche.png
END:VEVENT
END:VCALENDAR