BEGIN:VCALENDAR
VERSION:2.0
PRODID:-//Association La Bourguette-autisme - ECPv5.9.1//NONSGML v1.0//EN
CALSCALE:GREGORIAN
METHOD:PUBLISH
X-WR-CALNAME:Association La Bourguette-autisme
X-ORIGINAL-URL:https://www.bourguette-autisme.org
X-WR-CALDESC:évènements pour Association La Bourguette-autisme
BEGIN:VTIMEZONE
TZID:Europe/Paris
BEGIN:DAYLIGHT
TZOFFSETFROM:+0100
TZOFFSETTO:+0200
TZNAME:CEST
DTSTART:20260329T010000
END:DAYLIGHT
BEGIN:STANDARD
TZOFFSETFROM:+0200
TZOFFSETTO:+0100
TZNAME:CET
DTSTART:20261025T010000
END:STANDARD
END:VTIMEZONE
BEGIN:VEVENT
DTSTART;TZID=Europe/Paris:20260501T090000
DTEND;TZID=Europe/Paris:20260501T190000
DTSTAMP:20260421T104947
CREATED:20260413T083146Z
LAST-MODIFIED:20260413T083615Z
UID:23691-1777626000-1777662000@www.bourguette-autisme.org
SUMMARY:Marché de la Céramique
DESCRIPTION:L’atelier céramique du Grand Réal sera présent au Marché de la Céramique\n📅 Vendredi 1er mai 2026\n🕘 De 9h à 19h\n📍 Place du Château à La Tour d’Aigues (84240) \nVenez découvrir de toutes nouvelles créations\, aux côtés de 34 exposants\, et profiter des animations pour petits et grands. \nUn événement organisé par la Ville de La Tour d’Aigues en partenariat avec Terres de Provence.
URL:https://www.bourguette-autisme.org/evenement/marche-de-la-ceramique-2/
LOCATION:La Tour d’Aigues\, Boulevard de la République\, La Tour d'Aigues\, 84240
CATEGORIES:Association La Bourguette,L’ESAT du Grand Réal
ATTACH;FMTTYPE=application/pdf:https://www.bourguette-autisme.org/wp-content/uploads/2026/04/AfficheA4-marche_de_la_ceramique_2026.pdf
END:VEVENT
END:VCALENDAR