BEGIN:VCALENDAR
VERSION:2.0
PRODID:-//Association La Bourguette-autisme - ECPv5.9.1//NONSGML v1.0//EN
CALSCALE:GREGORIAN
METHOD:PUBLISH
X-WR-CALNAME:Association La Bourguette-autisme
X-ORIGINAL-URL:https://www.bourguette-autisme.org
X-WR-CALDESC:évènements pour Association La Bourguette-autisme
BEGIN:VTIMEZONE
TZID:Europe/Paris
BEGIN:DAYLIGHT
TZOFFSETFROM:+0100
TZOFFSETTO:+0200
TZNAME:CEST
DTSTART:20250330T010000
END:DAYLIGHT
BEGIN:STANDARD
TZOFFSETFROM:+0200
TZOFFSETTO:+0100
TZNAME:CET
DTSTART:20251026T010000
END:STANDARD
END:VTIMEZONE
BEGIN:VEVENT
DTSTART;TZID=Europe/Paris:20251121T193000
DTEND;TZID=Europe/Paris:20251121T233000
DTSTAMP:20260419T155928
CREATED:20251023T125644Z
LAST-MODIFIED:20251023T130854Z
UID:22683-1763753400-1763767800@www.bourguette-autisme.org
SUMMARY:Soirée de Gala du Rotary Cavaillon St Jacques
DESCRIPTION:Le Rotary Cavaillon St Jacques organise une grande Soirée de Gala le vendredi 21 novembre 2025à 19h30 à la Salle du Moulin St Julien – 288 Cours Gambetta – 84300 CAVAILLON \n\nAu profit de l’accueil des enfants porteurs d ‘autisme de l’Association La Bourguette sur le site de Cavaillon. \nSigné par les Maîtres Cuisiniers de France\, ce dîner de Gala vous invite à revêtir vos plus belles tenues pour partager\, aux chandelles\, un moment d’exception. \nUn festin raffiné\, suivi d’une soirée dansante\, placé sous le signe de l’élégance et de la solidarité. \n\nRéservez dès maintenant en complétant la fiche d’inscription et l’envoyer à guy.meffre84@gmail.com ou par courrier à Guy MEFFRE\, 38 chemin de Palerme\, 84800 L’Isle-sur-la-Sorgue \nNombre de réservations limité. (Vous pouvez bénéficier d’un reçu fiscal suite au règlement de votre réservation) \nDécouvrez le MENU \n  \n  \nLe Rotary Cavaillon St Jacques soutient le déploiement de l’Association La Bourguette sur Cavaillon qui a créé en septembre 2025 une UEMA/une classe spécialisée dans l’école de La Colline\, puis a ouvert un Accueil de jour et un service mobile pour les enfants avec un Trouble du Spectre Autistique de 7 à 20 ans. \n  \n  \n  \n  \nUne tombola prestigieuse aura lieu lors de la soirée de Gala avec en 1er lot un week-end tout compris à l’Hôtel 5 étoiles L’Isle de Léos\, et ensuite 10 dîners gastronomiques pour 2 personnes. \nTous les bénéfices seront reversés à l’Association La Bourguette pour son projet d’unités spécialisées pour enfants TSA sur Cavaillon. \n 
URL:https://www.bourguette-autisme.org/evenement/soiree-de-gala-du-rotary-cavaillon-st-jacques/
LOCATION:Salle du Moulin St Julien\, 288 Cours Gambetta\, CAVAILLON\, 84300
CATEGORIES:Association La Bourguette,L’IME La Bourguette,Pôle Ressource Petite Enfance
ATTACH;FMTTYPE=image/png:https://www.bourguette-autisme.org/wp-content/uploads/2025/10/Capture.png
END:VEVENT
END:VCALENDAR