BEGIN:VCALENDAR
VERSION:2.0
PRODID:-//Association La Bourguette-autisme - ECPv5.9.1//NONSGML v1.0//EN
CALSCALE:GREGORIAN
METHOD:PUBLISH
X-WR-CALNAME:Association La Bourguette-autisme
X-ORIGINAL-URL:https://www.bourguette-autisme.org
X-WR-CALDESC:évènements pour Association La Bourguette-autisme
BEGIN:VTIMEZONE
TZID:UTC
BEGIN:STANDARD
TZOFFSETFROM:+0000
TZOFFSETTO:+0000
TZNAME:UTC
DTSTART:20190101T000000
END:STANDARD
END:VTIMEZONE
BEGIN:VEVENT
DTSTART;TZID=UTC:20191114T080000
DTEND;TZID=UTC:20191114T170000
DTSTAMP:20260425T030834
CREATED:20160512T060544Z
LAST-MODIFIED:20200309T110720Z
UID:901-1573718400-1573750800@www.bourguette-autisme.org
SUMMARY:Vente à la propriété des produits du Grand Réal
DESCRIPTION:Suite à la fermeture de l’auberge du Grand Réal\, pour les travaux d’agrandissement et d’embellissement\, nous vous proposons une vente à la propriété tous les mardis et jeudis de 10h à 12h. \nVous pourrez retrouver\, sur le site de l’Auberge du Grand Réal\, tous les produits qui y sont en vente habituellement : \n\nvin\nhuile d’olive\nlégumes\ncharcuterie\nfromage de chèvre.\n\nNous vous attendons nombreux !!! \nL’auberge du Grand Réal\nESAT Le Grand Réal rond-bleuclair 84120 La Bastidonne\nTél. : 04 90 07 55 44 \ncontact : auberge.real@labourguette.org
URL:https://www.bourguette-autisme.org/evenement/vente-propriete-des-produits-du-grand-real/
LOCATION:L’ESAT du Grand Réal\, Les Gourguettes\, La Bastidonne\, 84120\, France
CATEGORIES:L’ESAT du Grand Réal
ORGANIZER;CN="La%20Bourguette":MAILTO:contact@labourguette.org
END:VEVENT
END:VCALENDAR